BEGIN:VCALENDAR
VERSION:2.0
PRODID:-//AmCham Romania//NONSGML v1.0//EN
BEGIN:VEVENT
UID:CM-2ef248c04979d6b3a7b283ec3dc32cca-3208-ACR
DTSTAMP:20260427T060000Z
DTSTART:20260427T060000Z
DTEND:20260427T070000Z
SUMMARY:Committee meeting
LOCATION:AmCham premises
DESCRIPTION:09:00 am - 10:00 am
END:VEVENT
END:VCALENDAR